BEGIN:VCALENDAR
VERSION:2.0
PRODID:-//Nation Wide Health CPR - ECPv6.15.20//NONSGML v1.0//EN
CALSCALE:GREGORIAN
METHOD:PUBLISH
X-WR-CALNAME:Nation Wide Health CPR
X-ORIGINAL-URL:https://nationwidehealthcpr.com
X-WR-CALDESC:Events for Nation Wide Health CPR
REFRESH-INTERVAL;VALUE=DURATION:PT1H
X-Robots-Tag:noindex
X-PUBLISHED-TTL:PT1H
BEGIN:VTIMEZONE
TZID:America/Los_Angeles
BEGIN:DAYLIGHT
TZOFFSETFROM:-0800
TZOFFSETTO:-0700
TZNAME:PDT
DTSTART:20250309T100000
END:DAYLIGHT
BEGIN:STANDARD
TZOFFSETFROM:-0700
TZOFFSETTO:-0800
TZNAME:PST
DTSTART:20251102T090000
END:STANDARD
BEGIN:DAYLIGHT
TZOFFSETFROM:-0800
TZOFFSETTO:-0700
TZNAME:PDT
DTSTART:20260308T100000
END:DAYLIGHT
BEGIN:STANDARD
TZOFFSETFROM:-0700
TZOFFSETTO:-0800
TZNAME:PST
DTSTART:20261101T090000
END:STANDARD
BEGIN:DAYLIGHT
TZOFFSETFROM:-0800
TZOFFSETTO:-0700
TZNAME:PDT
DTSTART:20270314T100000
END:DAYLIGHT
BEGIN:STANDARD
TZOFFSETFROM:-0700
TZOFFSETTO:-0800
TZNAME:PST
DTSTART:20271107T090000
END:STANDARD
END:VTIMEZONE
BEGIN:VEVENT
DTSTART;TZID=America/Los_Angeles:20260421T080000
DTEND;TZID=America/Los_Angeles:20260421T170000
DTSTAMP:20260421T031052
CREATED:20260224T215442Z
LAST-MODIFIED:20260224T215442Z
UID:10000470-1776758400-1776790800@nationwidehealthcpr.com
SUMMARY:PALS Provider Renewal
DESCRIPTION:PALS is geared towards healthcare providers who respond to emergencies in infants and children and for personnel in emergency response\, emergency medicine\, intensive care and critical care units. Upon successful completion of the course\, students receive a course completion card\, valid for two years. Please contact your employer to ensure that you are selecting the correct course.
URL:https://nationwidehealthcpr.com/event/pals-provider-renewal-36/
LOCATION:NWH-Training Second Floor\, 1000 W. McNab Rd.\, Suite 211\, Pompano\, FL\, 33069\, United States
CATEGORIES:AHA PALS
ORGANIZER;CN="Brittany":MAILTO:brittany@nationwidehealthcpr.com
END:VEVENT
END:VCALENDAR